BEGIN:VCALENDAR
VERSION:2.0
PRODID:-//Network of Christian Counselors - ECPv6.15.20//NONSGML v1.0//EN
CALSCALE:GREGORIAN
METHOD:PUBLISH
X-ORIGINAL-URL:https://networkofchristiancounselors.com
X-WR-CALDESC:Events for Network of Christian Counselors
REFRESH-INTERVAL;VALUE=DURATION:PT1H
X-Robots-Tag:noindex
X-PUBLISHED-TTL:PT1H
BEGIN:VTIMEZONE
TZID:America/New_York
BEGIN:DAYLIGHT
TZOFFSETFROM:-0500
TZOFFSETTO:-0400
TZNAME:EDT
DTSTART:20240310T070000
END:DAYLIGHT
BEGIN:STANDARD
TZOFFSETFROM:-0400
TZOFFSETTO:-0500
TZNAME:EST
DTSTART:20241103T060000
END:STANDARD
BEGIN:DAYLIGHT
TZOFFSETFROM:-0500
TZOFFSETTO:-0400
TZNAME:EDT
DTSTART:20250309T070000
END:DAYLIGHT
BEGIN:STANDARD
TZOFFSETFROM:-0400
TZOFFSETTO:-0500
TZNAME:EST
DTSTART:20251102T060000
END:STANDARD
BEGIN:DAYLIGHT
TZOFFSETFROM:-0500
TZOFFSETTO:-0400
TZNAME:EDT
DTSTART:20260308T070000
END:DAYLIGHT
BEGIN:STANDARD
TZOFFSETFROM:-0400
TZOFFSETTO:-0500
TZNAME:EST
DTSTART:20261101T060000
END:STANDARD
BEGIN:DAYLIGHT
TZOFFSETFROM:-0500
TZOFFSETTO:-0400
TZNAME:EDT
DTSTART:20270314T070000
END:DAYLIGHT
BEGIN:STANDARD
TZOFFSETFROM:-0400
TZOFFSETTO:-0500
TZNAME:EST
DTSTART:20271107T060000
END:STANDARD
END:VTIMEZONE
BEGIN:VEVENT
DTSTART;TZID=America/New_York:20260413T090000
DTEND;TZID=America/New_York:20260413T120000
DTSTAMP:20260423T122148
CREATED:20250814T195108Z
LAST-MODIFIED:20250815T020150Z
UID:16639-1776070800-1776081600@networkofchristiancounselors.com
SUMMARY:DOMESTIC VIOLENCE AND CLERGY ABUSE (Required CEUs)
DESCRIPTION:
URL:https://networkofchristiancounselors.com/event/domestic-violence-and-clergy-abuse-required-ceus/
LOCATION:BridgePoint Seminole Campus\, 12601 Park BLVD\, Seminole\, Florida\, 33776\, United States
END:VEVENT
BEGIN:VEVENT
DTSTART;TZID=America/New_York:20260309T090000
DTEND;TZID=America/New_York:20260309T120000
DTSTAMP:20260423T122148
CREATED:20250814T194743Z
LAST-MODIFIED:20250815T015305Z
UID:16634-1773046800-1773057600@networkofchristiancounselors.com
SUMMARY:ETHICS AND TELEHEALTH  (Required CEUs)
DESCRIPTION:
URL:https://networkofchristiancounselors.com/event/ethics-and-telehealth-required-ceus/
LOCATION:BridgePoint Seminole Campus\, 12601 Park BLVD\, Seminole\, Florida\, 33776\, United States
END:VEVENT
BEGIN:VEVENT
DTSTART;TZID=America/New_York:20260209T090000
DTEND;TZID=America/New_York:20260209T120000
DTSTAMP:20260423T122148
CREATED:20250814T193405Z
LAST-MODIFIED:20250815T014628Z
UID:16630-1770627600-1770638400@networkofchristiancounselors.com
SUMMARY:GODLY SEXUALITY
DESCRIPTION:
URL:https://networkofchristiancounselors.com/event/godly-sexuality/
LOCATION:BridgePoint Seminole Campus\, 12601 Park BLVD\, Seminole\, Florida\, 33776\, United States
END:VEVENT
BEGIN:VEVENT
DTSTART;TZID=America/New_York:20260112T090000
DTEND;TZID=America/New_York:20260112T120000
DTSTAMP:20260423T122148
CREATED:20250814T193111Z
LAST-MODIFIED:20250815T014357Z
UID:16626-1768208400-1768219200@networkofchristiancounselors.com
SUMMARY:SOUL RESTORATION
DESCRIPTION:
URL:https://networkofchristiancounselors.com/event/soul-restoration/
LOCATION:BridgePoint Seminole Campus\, 12601 Park BLVD\, Seminole\, Florida\, 33776\, United States
END:VEVENT
BEGIN:VEVENT
DTSTART;TZID=America/New_York:20251110T090000
DTEND;TZID=America/New_York:20251110T120000
DTSTAMP:20260423T122148
CREATED:20250814T192250Z
LAST-MODIFIED:20250815T014040Z
UID:16622-1762765200-1762776000@networkofchristiancounselors.com
SUMMARY:DEATH\, DIVORCE AND SUICIDE
DESCRIPTION:
URL:https://networkofchristiancounselors.com/event/death-divorce-and-suicide/
LOCATION:BridgePoint Seminole Campus\, 12601 Park BLVD\, Seminole\, Florida\, 33776\, United States
END:VEVENT
BEGIN:VEVENT
DTSTART;TZID=America/New_York:20251013T090000
DTEND;TZID=America/New_York:20251013T120000
DTSTAMP:20260423T122148
CREATED:20250814T191359Z
LAST-MODIFIED:20250924T123501Z
UID:16618-1760346000-1760356800@networkofchristiancounselors.com
SUMMARY:TRAUMA: HEALING AFTER THE STORM\, Post Traumatic Stress Disorder Arising from Natural Disasters
DESCRIPTION:
URL:https://networkofchristiancounselors.com/event/catastrophic-trauma/
LOCATION:BridgePoint Seminole Campus\, 12601 Park BLVD\, Seminole\, Florida\, 33776\, United States
END:VEVENT
BEGIN:VEVENT
DTSTART;TZID=America/New_York:20250908T090000
DTEND;TZID=America/New_York:20250908T120000
DTSTAMP:20260423T122148
CREATED:20250806T181316Z
LAST-MODIFIED:20250815T183432Z
UID:16069-1757322000-1757332800@networkofchristiancounselors.com
SUMMARY:INFIDELITY\, GUILT AND FORGIVENESS
DESCRIPTION:
URL:https://networkofchristiancounselors.com/event/september-seminar/
LOCATION:BridgePoint Seminole Campus\, 12601 Park BLVD\, Seminole\, Florida\, 33776\, United States
END:VEVENT
END:VCALENDAR